BEGIN:VCALENDAR
VERSION:2.0
PRODID:-//wp-events-plugin.com//7.2.3.1//EN
TZID:Europe/Berlin
X-WR-TIMEZONE:Europe/Berlin
BEGIN:VEVENT
UID:449@g-p-z.de
DTSTART;TZID=Europe/Berlin:20241030T173000
DTEND;TZID=Europe/Berlin:20241030T190000
DTSTAMP:20240517T130543Z
URL:https://g-p-z.de/veranstaltungen/knallaktiv-singen-fuer-alle-2-2024-10
 -30/
SUMMARY:KnallAktiv: Singen für Alle
DESCRIPTION:
ATTACH;FMTTYPE=image/jpeg:https://g-p-z.de/wp-content/uploads/2024/05/cat-
 Singen.jpg
CATEGORIES:KnallAktiv
END:VEVENT
BEGIN:VTIMEZONE
TZID:Europe/Berlin
X-LIC-LOCATION:Europe/Berlin
BEGIN:STANDARD
DTSTART:20241027T020000
TZOFFSETFROM:+0200
TZOFFSETTO:+0100
TZNAME:CET
END:STANDARD
END:VTIMEZONE
END:VCALENDAR