BEGIN:VCALENDAR
VERSION:2.0
PRODID:-//wp-events-plugin.com//7.2.3.1//EN
TZID:Europe/Berlin
X-WR-TIMEZONE:Europe/Berlin
BEGIN:VEVENT
UID:404@g-p-z.de
DTSTART;TZID=Europe/Berlin:20241016T140000
DTEND;TZID=Europe/Berlin:20241016T180000
DTSTAMP:20240327T112316Z
URL:https://g-p-z.de/veranstaltungen/gemeinsames-waffel-backen-2-2024-10-1
 6/
SUMMARY:Gemeinsames Waffel backen
DESCRIPTION:
ATTACH;FMTTYPE=image/jpeg:https://g-p-z.de/wp-content/uploads/2024/03/waff
 les-pastries-sweet-dish-1143.jpg
CATEGORIES:TAFF
END:VEVENT
BEGIN:VTIMEZONE
TZID:Europe/Berlin
X-LIC-LOCATION:Europe/Berlin
BEGIN:DAYLIGHT
DTSTART:20240331T030000
TZOFFSETFROM:+0100
TZOFFSETTO:+0200
TZNAME:CEST
END:DAYLIGHT
END:VTIMEZONE
END:VCALENDAR